<PAMDataset>
  <SRS>PROJCS[&quot;NAD27 / South Carolina North&quot;,GEOGCS[&quot;NAD27&quot;,DATUM[&quot;North_American_Datum_1927&quot;,SPHEROID[&quot;Clarke 1866&quot;,6378206.4,294.9786982139006,AUTHORITY[&quot;EPSG&quot;,&quot;7008&quot;]],AUTHORITY[&quot;EPSG&quot;,&quot;6267&quot;]],PRIMEM[&quot;Greenwich&quot;,0,AUTHORITY[&quot;EPSG&quot;,&quot;8901&quot;]],UNIT[&quot;degree&quot;,0.01745329251994328,AUTHORITY[&quot;EPSG&quot;,&quot;9122&quot;]],AUTHORITY[&quot;EPSG&quot;,&quot;4267&quot;]],PROJECTION[&quot;Lambert_Conformal_Conic_2SP&quot;],PARAMETER[&quot;standard_parallel_1&quot;,33.76666666666667],PARAMETER[&quot;standard_parallel_2&quot;,34.96666666666667],PARAMETER[&quot;latitude_of_origin&quot;,33],PARAMETER[&quot;central_meridian&quot;,-81],PARAMETER[&quot;false_easting&quot;,609601.2192024384],PARAMETER[&quot;false_northing&quot;,0],UNIT[&quot;Meter&quot;,1]]</SRS>
  <GeoTransform> 1.3976625834055650e+006, 2.0064231073930858e+000,-4.0974807475283787e-002, 6.6584704929335602e+005,-3.9736506944709933e-002,-2.0062930069318612e+000</GeoTransform>
  <Metadata>
    <MDI key="EXIF_Orientation">1</MDI>
    <MDI key="EXIF_XResolution">(200)</MDI>
    <MDI key="EXIF_YResolution">(200)</MDI>
    <MDI key="EXIF_ResolutionUnit">2</MDI>
    <MDI key="EXIF_Software">Adobe Photoshop CS Windows</MDI>
    <MDI key="EXIF_DateTime">2004:10:19 15:08:45</MDI>
    <MDI key="EXIF_ColorSpace">65535</MDI>
    <MDI key="EXIF_PixelXDimension">7993</MDI>
    <MDI key="EXIF_PixelYDimension">6799</MDI>
  </Metadata>
  <Metadata domain="xml:ESRI" format="xml">
    <GeodataXform xsi:type="typens:PolynomialXform" xmlns:xsi="http://www.w3.org/2001/XMLSchema-instance" xmlns:xs="http://www.w3.org/2001/XMLSchema" xmlns:typens="http://www.esri.com/schemas/ArcGIS/9.2">
      <PolynomialOrder>1</PolynomialOrder>
      <SpatialReference xsi:type="typens:ProjectedCoordinateSystem">
        <WKT>PROJCS[&quot;NAD_1983_StatePlane_South_Carolina_FIPS_3900_Feet_Intl&quot;,GEOGCS[&quot;GCS_North_American_1983&quot;,DATUM[&quot;D_North_American_1983&quot;,SPHEROID[&quot;GRS_1980&quot;,6378137.0,298.257222101]],PRIMEM[&quot;Greenwich&quot;,0.0],UNIT[&quot;Degree&quot;,0.0174532925199433]],PROJECTION[&quot;Lambert_Conformal_Conic&quot;],PARAMETER[&quot;False_Easting&quot;,2000000.0],PARAMETER[&quot;False_Northing&quot;,0.0],PARAMETER[&quot;Central_Meridian&quot;,-81.0],PARAMETER[&quot;Standard_Parallel_1&quot;,32.5],PARAMETER[&quot;Standard_Parallel_2&quot;,34.83333333333334],PARAMETER[&quot;Latitude_Of_Origin&quot;,31.83333333333333],UNIT[&quot;Foot&quot;,0.3048]]</WKT>
        <HighPrecision>true</HighPrecision>
      </SpatialReference>
      <CoeffX xsi:type="typens:ArrayOfDouble">
        <Double>1397662.58340557</Double>
        <Double>2.00642310739309</Double>
        <Double>4.09748074752838E-02</Double>
      </CoeffX>
      <CoeffY xsi:type="typens:ArrayOfDouble">
        <Double>665847.049293356</Double>
        <Double>-3.97365069447099E-02</Double>
        <Double>2.00629300693186</Double>
      </CoeffY>
      <InverseCoeffX xsi:type="typens:ArrayOfDouble">
        <Double>-689537.664772018</Double>
        <Double>0.498197856010332</Double>
        <Double>-1.01747656818283E-02</Double>
      </InverseCoeffX>
      <InverseCoeffY xsi:type="typens:ArrayOfDouble">
        <Double>-345536.202889109</Double>
        <Double>9.8672738711622E-03</Double>
        <Double>0.498230162244079</Double>
      </InverseCoeffY>
    </GeodataXform>
  </Metadata>
  <PAMRasterBand band="1">
    <Metadata>
      <MDI key="STATISTICS_MINIMUM">0</MDI>
      <MDI key="STATISTICS_MAXIMUM">255</MDI>
      <MDI key="STATISTICS_MEAN">201.76783723116</MDI>
      <MDI key="STATISTICS_MEDIAN">3.8643626767167e-272</MDI>
      <MDI key="STATISTICS_MODE">4.9406564584125e-324</MDI>
      <MDI key="STATISTICS_STDDEV">28.17992733545</MDI>
      <MDI key="LAYER_TYPE">athematic</MDI>
    </Metadata>
  </PAMRasterBand>
</PAMDataset>
